BEGIN:VCALENDAR
VERSION:2.0
PRODID:-//wp-events-plugin.com//7.2.3.1//EN
TZID:Europe/Zurich
X-WR-TIMEZONE:Europe/Zurich
BEGIN:VEVENT
UID:66@parvisdestalents.ch
DTSTART;TZID=Europe/Zurich:20250313T183000
DTEND;TZID=Europe/Zurich:20250313T200000
DTSTAMP:20250311T204953Z
URL:https://www.parvisdestalents.ch/events/assemblee-generale-2024/
SUMMARY:Assemblée Générale 2024
DESCRIPTION:L'Assemblée Générale 2024 de l'association se déroule en vi
 rtuel\, et est ouverte à tous. Evidemment\, seuls les membres de l'associ
 ation ont droit de vote.\n\nAgenda :\n\n 	Présentation du Parvis des Tale
 nts\n 	Bilan moral 2024\n 	Perspectives 2025\n 	Votes et Election du Burea
 u\n
ATTACH;FMTTYPE=image/jpeg:https://www.parvisdestalents.ch/wp-content/uploa
 ds/2021/12/pdt_apero_2020-09-29_27.jpg
CATEGORIES:Réunion
LOCATION:http://-
END:VEVENT
BEGIN:VTIMEZONE
TZID:Europe/Zurich
X-LIC-LOCATION:Europe/Zurich
BEGIN:STANDARD
DTSTART:20241027T020000
TZOFFSETFROM:+0200
TZOFFSETTO:+0100
TZNAME:CET
END:STANDARD
END:VTIMEZONE
END:VCALENDAR